BEGIN:VCALENDAR
VERSION:2.0
PRODID:-//People of Print - ECPv6.15.20//NONSGML v1.0//EN
CALSCALE:GREGORIAN
METHOD:PUBLISH
X-ORIGINAL-URL:https://peopleofprint.com
X-WR-CALDESC:Events for People of Print
REFRESH-INTERVAL;VALUE=DURATION:PT1H
X-Robots-Tag:noindex
X-PUBLISHED-TTL:PT1H
BEGIN:VTIMEZONE
TZID:Europe/London
BEGIN:DAYLIGHT
TZOFFSETFROM:+0000
TZOFFSETTO:+0100
TZNAME:BST
DTSTART:20250330T010000
END:DAYLIGHT
BEGIN:STANDARD
TZOFFSETFROM:+0100
TZOFFSETTO:+0000
TZNAME:GMT
DTSTART:20251026T010000
END:STANDARD
BEGIN:DAYLIGHT
TZOFFSETFROM:+0000
TZOFFSETTO:+0100
TZNAME:BST
DTSTART:20260329T010000
END:DAYLIGHT
BEGIN:STANDARD
TZOFFSETFROM:+0100
TZOFFSETTO:+0000
TZNAME:GMT
DTSTART:20261025T010000
END:STANDARD
BEGIN:DAYLIGHT
TZOFFSETFROM:+0000
TZOFFSETTO:+0100
TZNAME:BST
DTSTART:20270328T010000
END:DAYLIGHT
BEGIN:STANDARD
TZOFFSETFROM:+0100
TZOFFSETTO:+0000
TZNAME:GMT
DTSTART:20271031T010000
END:STANDARD
END:VTIMEZONE
BEGIN:VEVENT
DTSTART;TZID=Europe/London:20260522T100000
DTEND;TZID=Europe/London:20260531T170000
DTSTAMP:20260423T114644
CREATED:20260417T105738Z
LAST-MODIFIED:20260417T105738Z
UID:10003578-1779444000-1780246800@peopleofprint.com
SUMMARY:Derby Book Festival
DESCRIPTION:The Derby Book Festival is back\, with an incredible summer programme of events\, including talks and workshops from authors\, thinkers and creatives offering something for audiences of all ages and interests. \nThe Summer Festival\, which will be held from Friday 22 May to Sunday 31 May\, will include over 70 book-related events for all ages and interests in venues across the city including QUAD\, Derby College\, Derby Theatre and Museum of Making. \nPresenting a broad\, diverse programme which attracts internationally renowned writers\, poets\, historians\, politicians\, broadcasters\, illustrators\, storytellers and musicians\, whilst also providing support and opportunities for local authors and those taking their first steps towards publishing. \nAlongside this\, the community programme provides creative opportunities\, including the Flash Fiction Writing Competition\, with this year’s theme ‘Hope’\, and the Derby Children’s Picture Book Award. \nThe Festival is funded by Arts Council England and the University of Derby with sponsorship from several local businesses and individuals \nGlue Book Fair was last modified:  April 17th\, 2026 by
URL:https://peopleofprint.com/event/derby-book-festival/
LOCATION:Greater London
CATEGORIES:Art Book Fair,Festival,Talks
ATTACH;FMTTYPE=image/jpeg:https://peopleofprint.com/wp-content/uploads/2026/04/Dbf.jpg
ORGANIZER;CN="Derby Book Festival":MAILTO:hello@derbybookfestival.co.uk
END:VEVENT
BEGIN:VEVENT
DTSTART;TZID=Europe/London:20260912T100000
DTEND;TZID=Europe/London:20260913T180000
DTSTAMP:20260423T114644
CREATED:20260417T111016Z
LAST-MODIFIED:20260417T111016Z
UID:10003579-1789207200-1789322400@peopleofprint.com
SUMMARY:Glue Book Fair
DESCRIPTION:The ICA’s annual book fair is back in London this September\, bringing together over 80 publishers for a weekend of exhibitions\, talks\, and workshops. \nCelebrating artists\, publishers and independent book makers working across visual arts and contemporary culture\, Glue brings together creative practices that span disciplines and genres. Alongside a vibrant book fair\, the weekend features a special exhibition and public programme that champions the role of artist-led ecosystems and communities in nourishing creative practice and shaping urgent and independent publishing today. \nGlue celebrates creative communities and networks as vital sources for nurturing and sustaining artistic practice. Taking over the whole of ICA\, Glue provides a social\, cultural and creative space for dialogue and exchange while supporting publishers within an economically volatile climate. \nGlue Book Fair was last modified:  April 17th\, 2026 by
URL:https://peopleofprint.com/event/glue-book-fair/
LOCATION:ICA\, The Mall\, London\, London\, Greater London\, SW1Y 5AH\, United Kingdom
CATEGORIES:Art Book Fair,Fair / Market,Festival,Talks
ATTACH;FMTTYPE=image/jpeg:https://peopleofprint.com/wp-content/uploads/2026/04/glue.jpg
ORGANIZER;CN="Glue":MAILTO:glue@ica.art
END:VEVENT
END:VCALENDAR