BEGIN:VCALENDAR
VERSION:2.0
PRODID:-//People of Print - ECPv6.15.20//NONSGML v1.0//EN
CALSCALE:GREGORIAN
METHOD:PUBLISH
X-WR-CALNAME:People of Print
X-ORIGINAL-URL:https://peopleofprint.com
X-WR-CALDESC:Events for People of Print
REFRESH-INTERVAL;VALUE=DURATION:PT1H
X-Robots-Tag:noindex
X-PUBLISHED-TTL:PT1H
BEGIN:VTIMEZONE
TZID:Europe/London
BEGIN:DAYLIGHT
TZOFFSETFROM:+0000
TZOFFSETTO:+0100
TZNAME:BST
DTSTART:20250330T010000
END:DAYLIGHT
BEGIN:STANDARD
TZOFFSETFROM:+0100
TZOFFSETTO:+0000
TZNAME:GMT
DTSTART:20251026T010000
END:STANDARD
BEGIN:DAYLIGHT
TZOFFSETFROM:+0000
TZOFFSETTO:+0100
TZNAME:BST
DTSTART:20260329T010000
END:DAYLIGHT
BEGIN:STANDARD
TZOFFSETFROM:+0100
TZOFFSETTO:+0000
TZNAME:GMT
DTSTART:20261025T010000
END:STANDARD
BEGIN:DAYLIGHT
TZOFFSETFROM:+0000
TZOFFSETTO:+0100
TZNAME:BST
DTSTART:20270328T010000
END:DAYLIGHT
BEGIN:STANDARD
TZOFFSETFROM:+0100
TZOFFSETTO:+0000
TZNAME:GMT
DTSTART:20271031T010000
END:STANDARD
END:VTIMEZONE
BEGIN:VEVENT
DTSTART;TZID=Europe/London:20260506T100000
DTEND;TZID=Europe/London:20260510T170000
DTSTAMP:20260419T195808
CREATED:20260411T103315Z
LAST-MODIFIED:20260411T103315Z
UID:10003566-1778061600-1778432400@peopleofprint.com
SUMMARY:DesignMarch\, Reykjavík
DESCRIPTION:DesignMarch is one of Reykjavík’s leading city festivals and a key event in the city’s cultural life. The festival brings together participants and guests in an original world of design and innovation\, where fresh ideas and unexpected approaches are given space to flourish. \nDesignMarch transforms downtown Reykjavík into a vibrant hub of design\, innovation and creative exchange. The overarching theme of DesignMarch 2026 is Connections. In a world defined simultaneously by hyper-connectivity and disconnection\, the festival turns its focus to the fundamental human need for meaningful connection. This festival takes place at multiple venues across Reykjavik. \nIceland Design and Architecture (honnunarmidstod.is) was last modified:  April 11th\, 2026 by
URL:https://peopleofprint.com/event/designmarch-reykjavik/
CATEGORIES:Festival,Visual Culture
ATTACH;FMTTYPE=image/avif:https://peopleofprint.com/wp-content/uploads/2026/04/Designmarch26.avif
ORGANIZER;CN="Iceland Design and Architecture (honnunarmidstod.is)":MAILTO:info@honnunarmidstod.is
END:VEVENT
END:VCALENDAR