BEGIN:VCALENDAR
VERSION:2.0
PRODID:-//People of Print - ECPv6.15.20//NONSGML v1.0//EN
CALSCALE:GREGORIAN
METHOD:PUBLISH
X-ORIGINAL-URL:https://peopleofprint.com
X-WR-CALDESC:Events for People of Print
REFRESH-INTERVAL;VALUE=DURATION:PT1H
X-Robots-Tag:noindex
X-PUBLISHED-TTL:PT1H
BEGIN:VTIMEZONE
TZID:Europe/London
BEGIN:DAYLIGHT
TZOFFSETFROM:+0000
TZOFFSETTO:+0100
TZNAME:BST
DTSTART:20250330T010000
END:DAYLIGHT
BEGIN:STANDARD
TZOFFSETFROM:+0100
TZOFFSETTO:+0000
TZNAME:GMT
DTSTART:20251026T010000
END:STANDARD
BEGIN:DAYLIGHT
TZOFFSETFROM:+0000
TZOFFSETTO:+0100
TZNAME:BST
DTSTART:20260329T010000
END:DAYLIGHT
BEGIN:STANDARD
TZOFFSETFROM:+0100
TZOFFSETTO:+0000
TZNAME:GMT
DTSTART:20261025T010000
END:STANDARD
BEGIN:DAYLIGHT
TZOFFSETFROM:+0000
TZOFFSETTO:+0100
TZNAME:BST
DTSTART:20270328T010000
END:DAYLIGHT
BEGIN:STANDARD
TZOFFSETFROM:+0100
TZOFFSETTO:+0000
TZNAME:GMT
DTSTART:20271031T010000
END:STANDARD
END:VTIMEZONE
BEGIN:VEVENT
DTSTART;TZID=Europe/London:20260423T170000
DTEND;TZID=Europe/London:20260423T200000
DTSTAMP:20260423T114650
CREATED:20260311T092853Z
LAST-MODIFIED:20260311T093252Z
UID:10003529-1776963600-1776974400@peopleofprint.com
SUMMARY:International Assembly Conference
DESCRIPTION:International Assembly is an unmissable online design and creative conference featuring 6 speakers from 6 continents. Discover different practices\, approaches\, cultures and personal insights from industry leaders and fresh-faced pioneers from across the world. \n  \n  \nRoyal Concert Hall\, Glasgow was last modified:  March 11th\, 2026 by
URL:https://peopleofprint.com/event/international-assembly-conference-2026/
LOCATION:Royal Concert Hall\, Glasgow\, 2 Sauchiehall Street\, Glasgow\, G2 3NY\, United Kingdom
CATEGORIES:Conference,Festival
ATTACH;FMTTYPE=image/png:https://peopleofprint.com/wp-content/uploads/2026/03/International-Assembly-logo.png
ORGANIZER;CN="INTL (International)":MAILTO:hello@intl.international
END:VEVENT
END:VCALENDAR